BEGIN:VCALENDAR
VERSION:2.0
PRODID:-//Lisa Bahar - ECPv6.15.11//NONSGML v1.0//EN
CALSCALE:GREGORIAN
METHOD:PUBLISH
X-WR-CALNAME:Lisa Bahar
X-ORIGINAL-URL:https://lisabahar.com
X-WR-CALDESC:Events for Lisa Bahar
REFRESH-INTERVAL;VALUE=DURATION:PT1H
X-Robots-Tag:noindex
X-PUBLISHED-TTL:PT1H
BEGIN:VTIMEZONE
TZID:America/Los_Angeles
BEGIN:DAYLIGHT
TZOFFSETFROM:-0800
TZOFFSETTO:-0700
TZNAME:PDT
DTSTART:20160313T100000
END:DAYLIGHT
BEGIN:STANDARD
TZOFFSETFROM:-0700
TZOFFSETTO:-0800
TZNAME:PST
DTSTART:20161106T090000
END:STANDARD
BEGIN:DAYLIGHT
TZOFFSETFROM:-0800
TZOFFSETTO:-0700
TZNAME:PDT
DTSTART:20170312T100000
END:DAYLIGHT
BEGIN:STANDARD
TZOFFSETFROM:-0700
TZOFFSETTO:-0800
TZNAME:PST
DTSTART:20171105T090000
END:STANDARD
BEGIN:DAYLIGHT
TZOFFSETFROM:-0800
TZOFFSETTO:-0700
TZNAME:PDT
DTSTART:20180311T100000
END:DAYLIGHT
BEGIN:STANDARD
TZOFFSETFROM:-0700
TZOFFSETTO:-0800
TZNAME:PST
DTSTART:20181104T090000
END:STANDARD
BEGIN:DAYLIGHT
TZOFFSETFROM:-0800
TZOFFSETTO:-0700
TZNAME:PDT
DTSTART:20190310T100000
END:DAYLIGHT
BEGIN:STANDARD
TZOFFSETFROM:-0700
TZOFFSETTO:-0800
TZNAME:PST
DTSTART:20191103T090000
END:STANDARD
BEGIN:DAYLIGHT
TZOFFSETFROM:-0800
TZOFFSETTO:-0700
TZNAME:PDT
DTSTART:20200308T100000
END:DAYLIGHT
BEGIN:STANDARD
TZOFFSETFROM:-0700
TZOFFSETTO:-0800
TZNAME:PST
DTSTART:20201101T090000
END:STANDARD
END:VTIMEZONE
BEGIN:VTIMEZONE
TZID:America/Denver
BEGIN:DAYLIGHT
TZOFFSETFROM:-0700
TZOFFSETTO:-0600
TZNAME:MDT
DTSTART:20180311T090000
END:DAYLIGHT
BEGIN:STANDARD
TZOFFSETFROM:-0600
TZOFFSETTO:-0700
TZNAME:MST
DTSTART:20181104T080000
END:STANDARD
BEGIN:DAYLIGHT
TZOFFSETFROM:-0700
TZOFFSETTO:-0600
TZNAME:MDT
DTSTART:20190310T090000
END:DAYLIGHT
BEGIN:STANDARD
TZOFFSETFROM:-0600
TZOFFSETTO:-0700
TZNAME:MST
DTSTART:20191103T080000
END:STANDARD
BEGIN:DAYLIGHT
TZOFFSETFROM:-0700
TZOFFSETTO:-0600
TZNAME:MDT
DTSTART:20200308T090000
END:DAYLIGHT
BEGIN:STANDARD
TZOFFSETFROM:-0600
TZOFFSETTO:-0700
TZNAME:MST
DTSTART:20201101T080000
END:STANDARD
END:VTIMEZONE
BEGIN:VTIMEZONE
TZID:UTC
BEGIN:STANDARD
TZOFFSETFROM:+0000
TZOFFSETTO:+0000
TZNAME:UTC
DTSTART:20170101T000000
END:STANDARD
END:VTIMEZONE
BEGIN:VEVENT
DTSTART;TZID=America/Los_Angeles:20190808T183000
DTEND;TZID=America/Los_Angeles:20190808T203000
DTSTAMP:20260420T133636
CREATED:20190719T152850Z
LAST-MODIFIED:20190719T162153Z
UID:1634-1565289000-1565296200@lisabahar.com
SUMMARY:Graduate School of Education and Psychology 2019 New Student Launch hosted by Pepperdine University and Lisa Bahar
DESCRIPTION:Join Lisa Bahar on August 8\, from 6:30PM – 8:30PM\, while she will be representing Pepperdine University and welcoming all new students at the Graduate School of Education and Psychology 2019 New Student Launch. \n  \n  \nMore info on the event located here
URL:https://lisabahar.com/event/graduate-school-of-education-and-psychology-2019-new-student-launch-hosted-by-pepperdine-university-and-lisa-bahar/
LOCATION:Pepperdine University\, West Los Angeles Campus\, United States
END:VEVENT
BEGIN:VEVENT
DTSTART;TZID=America/Denver:20190529T100000
DTEND;TZID=America/Denver:20190529T100000
DTSTAMP:20260420T133636
CREATED:20190528T141554Z
LAST-MODIFIED:20190610T144900Z
UID:1576-1559124000-1559124000@lisabahar.com
SUMMARY:Fandom Subculture and effects on mental health
DESCRIPTION:Please join Lisa Bahar as she explores the Fandom Subculture and effects on\nmental health with Host Lorna Dueck on Context\, a weekly news magazine\nprogram that goes “behind the headlines” and investigates the areas where\nnews and spirituality come together. \n  \ncontextwithlornadueck.com \n  \nHere is the full segment of the passed event 
URL:https://lisabahar.com/event/fandom-subculture-and-effects-on-mental-health/
END:VEVENT
BEGIN:VEVENT
DTSTART;TZID=UTC:20190410T180000
DTEND;TZID=UTC:20190410T190000
DTSTAMP:20260420T133636
CREATED:20190114T193443Z
LAST-MODIFIED:20190114T193711Z
UID:1492-1554919200-1554922800@lisabahar.com
SUMMARY:Information Session GSEP Room 207
DESCRIPTION:
URL:https://lisabahar.com/event/information-session-gsep-room-207-2/
LOCATION:Pepperdine University\, West Los Angeles Campus\, United States
END:VEVENT
BEGIN:VEVENT
DTSTART;VALUE=DATE:20180307
DTEND;VALUE=DATE:20180315
DTSTAMP:20260420T133636
CREATED:20180308T224653Z
LAST-MODIFIED:20180309T192309Z
UID:1332-1520380800-1521071999@lisabahar.com
SUMMARY:Harvesting Happiness Talk Radio
DESCRIPTION:Lisa Bahar joins Harvesting Happiness Talk Radio and explores Pop Culture Psych 101: Using the Silver Screen as a Vehicle for Self-Discovery
URL:https://lisabahar.com/event/harvesting-happiness-talk-radio-2/
END:VEVENT
BEGIN:VEVENT
DTSTART;VALUE=DATE:20180227
DTEND;VALUE=DATE:20180228
DTSTAMP:20260420T133636
CREATED:20180308T224559Z
LAST-MODIFIED:20180309T201602Z
UID:1330-1519689600-1519775999@lisabahar.com
SUMMARY:Lisa Bahar on A&E's Intervention
DESCRIPTION:Lisa Bahar speaks on behalf of Safe Harbor Treatment Center for Women on the treatment provided to Taylor who agreed to attend treatment for drug addiction and trauma. \n 
URL:https://lisabahar.com/event/lisa-bahar-on-aes-intervention/
END:VEVENT
BEGIN:VEVENT
DTSTART;TZID=UTC:20180110T080000
DTEND;TZID=UTC:20180110T080000
DTSTAMP:20260420T133636
CREATED:20171219T153532Z
LAST-MODIFIED:20171219T153532Z
UID:1302-1515571200-1515571200@lisabahar.com
SUMMARY:Harvesting Happiness Talk Radio
DESCRIPTION:Lisa Bahar will be a featured guest on Harvesting Happiness Talk Radio with\nhost Lisa Cypers Kamen on January 10\, 2018 sharing her work using\nCinema-Therapy\, a creative intervention that uses film stories to create\npsychotherapy healing. \nHarvesting Happiness Talk Radio Shows are syndicated through \n\nToginet\niTunes\nSpreaker\nPRX.org\n\nPRX.org and Soundcloud airs at 12:00 Noon ET/ 9:00 AM PT. \nFor more information\, check:\nhttps://harvestinghappinesstalkradio.com
URL:https://lisabahar.com/event/harvesting-happiness-talk-radio/
END:VEVENT
BEGIN:VEVENT
DTSTART;VALUE=DATE:20180102
DTEND;VALUE=DATE:20180103
DTSTAMP:20260420T133636
CREATED:20171205T171739Z
LAST-MODIFIED:20171206T221412Z
UID:1286-1514851200-1514937599@lisabahar.com
SUMMARY:A&E Intervention 🌟
DESCRIPTION:Safe Harbor House with Lisa Bahar will be on A&E’s Intervention 2 hour premiere \n \n(Check your local listings for channel)\nhttps://www.aetv.com/schedule
URL:https://lisabahar.com/event/safe-harbor-house/
END:VEVENT
BEGIN:VEVENT
DTSTART;VALUE=DATE:20170823
DTEND;VALUE=DATE:20170830
DTSTAMP:20260420T133636
CREATED:20170807T214711Z
LAST-MODIFIED:20170807T214810Z
UID:1209-1503446400-1504051199@lisabahar.com
SUMMARY:Parent Pump Radio
DESCRIPTION:Relieving Emotional Pain from Cutting: Warning Signs & Treatment
URL:https://lisabahar.com/event/parent-pump-radio/
ATTACH;FMTTYPE=image/jpeg:https://lisabahar.com/wp-content/uploads/2017/08/Lisa-Bahar-Parent-Pump-Radio-Post-Card-on-Emotional-Cutting.jpg
END:VEVENT
END:VCALENDAR